BEGIN:VCALENDAR
VERSION:2.0
PRODID:-//Cancer Life Line - ECPv6.15.12.2//NONSGML v1.0//EN
CALSCALE:GREGORIAN
METHOD:PUBLISH
X-WR-CALNAME:Cancer Life Line
X-ORIGINAL-URL:https://www.cancer-lifeline.org
X-WR-CALDESC:Events for Cancer Life Line
REFRESH-INTERVAL;VALUE=DURATION:PT1H
X-Robots-Tag:noindex
X-PUBLISHED-TTL:PT1H
BEGIN:VTIMEZONE
TZID:UTC
BEGIN:STANDARD
TZOFFSETFROM:+0000
TZOFFSETTO:+0000
TZNAME:UTC
DTSTART:20240101T000000
END:STANDARD
END:VTIMEZONE
BEGIN:VEVENT
DTSTART;TZID=UTC:20250204T103000
DTEND;TZID=UTC:20250204T133000
DTSTAMP:20260424T045320
CREATED:20250202T153645Z
LAST-MODIFIED:20250202T153959Z
UID:20416-1738665000-1738675800@www.cancer-lifeline.org
SUMMARY:World Cancer Day Drop-in
DESCRIPTION:Tuesday 4th February is World Cancer Day. Cancer affects all of us\, whether directly (one in two of us is likely to be diagnosed with cancer during our lifetime) or indirectly (through caring for a loved one during their illness and treatment). \nOn Tuesday\, CLSW will be taking part in the WCD event in Torquay. There’s a free drop-in between 10.30am and 1.30pm\, where you can find local support groups\, information about spotting signs of cancer from dedicated charities\, financial guidance\, Wellbeing and complementary therapy\, including Shiatsu taster sessions\, lifestyle support\, refreshments\, and more.
URL:https://www.cancer-lifeline.org/event/world-cancer-day-drop-in/
LOCATION:Assembly Hall\, Torquay\, Assembly Hall\, Lymington Road\, Torquay\, TQ1 3DT\, United Kingdom
ATTACH;FMTTYPE=image/png:https://www.cancer-lifeline.org/wp-content/uploads/2025/02/world-cancer-day.png
END:VEVENT
END:VCALENDAR