BEGIN:VCALENDAR
VERSION:2.0
PRODID:-//Cancer Life Line - ECPv6.15.12.2//NONSGML v1.0//EN
CALSCALE:GREGORIAN
METHOD:PUBLISH
X-ORIGINAL-URL:https://www.cancer-lifeline.org
X-WR-CALDESC:Events for Cancer Life Line
REFRESH-INTERVAL;VALUE=DURATION:PT1H
X-Robots-Tag:noindex
X-PUBLISHED-TTL:PT1H
BEGIN:VTIMEZONE
TZID:UTC
BEGIN:STANDARD
TZOFFSETFROM:+0000
TZOFFSETTO:+0000
TZNAME:UTC
DTSTART:20230101T000000
END:STANDARD
END:VTIMEZONE
BEGIN:VEVENT
DTSTART;TZID=UTC:20241214T100000
DTEND;TZID=UTC:20241214T120000
DTSTAMP:20260424T081919
CREATED:20241029T161143Z
LAST-MODIFIED:20241029T161143Z
UID:20361-1734170400-1734177600@www.cancer-lifeline.org
SUMMARY:Coffee Morning
DESCRIPTION:Join us for coffee (or tea) and biscuits on a Saturday morning. A chance to chat to your friends\, try your luck on the raffle\, and buy some yummy home-made cake for tea\, all while raising money for a great cause.
URL:https://www.cancer-lifeline.org/event/coffee-morning-2/
LOCATION:Chudleigh Town Hall\, Market Way\, Chudleigh\, Devon\, TQ13 0HL\, United Kingdom
ATTACH;FMTTYPE=image/png:https://www.cancer-lifeline.org/wp-content/uploads/2024/10/Coffee-141224.png
ORGANIZER;CN="CLSW":MAILTO:info@cancer-lifeline.org
END:VEVENT
END:VCALENDAR