BEGIN:VCALENDAR
VERSION:2.0
PRODID:-//Cancer Life Line - ECPv6.15.12.2//NONSGML v1.0//EN
CALSCALE:GREGORIAN
METHOD:PUBLISH
X-WR-CALNAME:Cancer Life Line
X-ORIGINAL-URL:https://www.cancer-lifeline.org
X-WR-CALDESC:Events for Cancer Life Line
REFRESH-INTERVAL;VALUE=DURATION:PT1H
X-Robots-Tag:noindex
X-PUBLISHED-TTL:PT1H
BEGIN:VTIMEZONE
TZID:UTC
BEGIN:STANDARD
TZOFFSETFROM:+0000
TZOFFSETTO:+0000
TZNAME:UTC
DTSTART:20230101T000000
END:STANDARD
END:VTIMEZONE
BEGIN:VEVENT
DTSTART;TZID=UTC:20260426T110000
DTEND;TZID=UTC:20260426T160000
DTSTAMP:20260423T102501
CREATED:20250910T094651Z
LAST-MODIFIED:20260422T141020Z
UID:21006-1777201200-1777219200@www.cancer-lifeline.org
SUMMARY:Family Fun Day at Ugbrooke Park
DESCRIPTION:Alexander and Lucy Clifford have graciously invited us back to the grounds of Ugbrooke House\, and we’re running our Family Fun Day there again on the last Sunday in April. \nOne of the hits of last year’s Family Fun Day was the dog show. And it’s back this year by popular demand. There will be ten classes to choose from\, and you can pay your entry fees on the day\, but why not reserve your dog’s place\, as some of the classes are very popular. Check out the dog show page for more information. \nAlso returning will be other favourites from last year: live music\, food stalls\, bar\, prize draw and games galore. Including the wonderful Human Fruit Machine. New attractions this year include zorbing and foot darts for the kids (big AND small) and a craft fair for the grown-ups. \nBut we’re particularly excited to introduce our sponsored walk\, Loop the Lake. We’re asking people to take a walk around the beautiful grounds\, looping the lake once\, twice\, or as many times as they like; and to raise sponsorship from their friends and family for doing so. Click here for more details and to download your entry packs. \nMake a note in your diaries: Sunday 26th April\, 11am to 4pm at Ugbrooke Park\, Chudleigh\, TQ13 0AD – buy your tickets today! \n£5 per adult\, kids go free. \n \nDon’t forget to also enter the prize draw! \n  \n  \n  \n  \nA huge thank you to our wonderful sponsors:
URL:https://www.cancer-lifeline.org/event/family-fun-day-at-ugbrooke-park-2026/
LOCATION:Ugbrooke House\, Chudleigh\, Newton Abbot\, Devon\, TQ13 0AD\, United Kingdom
ATTACH;FMTTYPE=image/png:https://www.cancer-lifeline.org/wp-content/uploads/2025/09/Ugbrooke-Park-Family-Fun-Day.png
END:VEVENT
BEGIN:VEVENT
DTSTART;TZID=UTC:20251213T100000
DTEND;TZID=UTC:20251213T113000
DTSTAMP:20260423T102501
CREATED:20250910T094254Z
LAST-MODIFIED:20250924T102653Z
UID:21002-1765620000-1765625400@www.cancer-lifeline.org
SUMMARY:Coffee Morning\, Chudleigh
DESCRIPTION:Try your luck on the raffle; sample our delicious home-made cakes\, or take them home for tea; chat to your friends or meet new folks over a cuppa; all while raising money for a great cause. \n50p entrance to include first tea/coffee plus biscuits.
URL:https://www.cancer-lifeline.org/event/coffee-morning-chudleigh-2/
LOCATION:Town Hall\, Chudleigh\, Chudleigh Town Hall\, Chudleigh\, Devon\, TQ13 0HL\, United Kingdom
ATTACH;FMTTYPE=image/png:https://www.cancer-lifeline.org/wp-content/uploads/2025/09/coffee-morning-1.png
END:VEVENT
BEGIN:VEVENT
DTSTART;TZID=UTC:20251122T110000
DTEND;TZID=UTC:20251122T150000
DTSTAMP:20260423T102501
CREATED:20250910T094152Z
LAST-MODIFIED:20250924T102906Z
UID:20999-1763809200-1763823600@www.cancer-lifeline.org
SUMMARY:Festive Fair\, Chudleigh
DESCRIPTION:An array of craft stalls to kick-off the Christmas shopping; craft table for the kids; prize draw; and a visit from the man in red himself. \n50p entrance; kids go free.
URL:https://www.cancer-lifeline.org/event/festive-fair-chudleigh/
LOCATION:Chudleigh Town Hall\, Market Way\, Chudleigh\, Devon\, TQ13 0HL\, United Kingdom
ATTACH;FMTTYPE=image/png:https://www.cancer-lifeline.org/wp-content/uploads/2025/09/festive-fair.png
END:VEVENT
BEGIN:VEVENT
DTSTART;TZID=UTC:20251122T100000
DTEND;TZID=UTC:20251122T113000
DTSTAMP:20260423T102501
CREATED:20250910T093825Z
LAST-MODIFIED:20250924T102749Z
UID:20995-1763805600-1763811000@www.cancer-lifeline.org
SUMMARY:Coffee Morning\, Chudleigh
DESCRIPTION:Try your luck on the raffle; sample our delicious home-made cakes\, or take them home for tea; chat to your friends or meet new folks over a cuppa; all while raising money for a great cause. \n50p entrance to include first tea/coffee plus biscuits.
URL:https://www.cancer-lifeline.org/event/coffee-morning-chudleigh/
LOCATION:Town Hall\, Chudleigh\, Chudleigh Town Hall\, Chudleigh\, Devon\, TQ13 0HL\, United Kingdom
ATTACH;FMTTYPE=image/png:https://www.cancer-lifeline.org/wp-content/uploads/2025/09/coffee-morning-1.png
END:VEVENT
BEGIN:VEVENT
DTSTART;TZID=UTC:20250204T103000
DTEND;TZID=UTC:20250204T133000
DTSTAMP:20260423T102501
CREATED:20250202T153645Z
LAST-MODIFIED:20250202T153959Z
UID:20416-1738665000-1738675800@www.cancer-lifeline.org
SUMMARY:World Cancer Day Drop-in
DESCRIPTION:Tuesday 4th February is World Cancer Day. Cancer affects all of us\, whether directly (one in two of us is likely to be diagnosed with cancer during our lifetime) or indirectly (through caring for a loved one during their illness and treatment). \nOn Tuesday\, CLSW will be taking part in the WCD event in Torquay. There’s a free drop-in between 10.30am and 1.30pm\, where you can find local support groups\, information about spotting signs of cancer from dedicated charities\, financial guidance\, Wellbeing and complementary therapy\, including Shiatsu taster sessions\, lifestyle support\, refreshments\, and more.
URL:https://www.cancer-lifeline.org/event/world-cancer-day-drop-in/
LOCATION:Assembly Hall\, Torquay\, Assembly Hall\, Lymington Road\, Torquay\, TQ1 3DT\, United Kingdom
ATTACH;FMTTYPE=image/png:https://www.cancer-lifeline.org/wp-content/uploads/2025/02/world-cancer-day.png
END:VEVENT
BEGIN:VEVENT
DTSTART;TZID=UTC:20241214T100000
DTEND;TZID=UTC:20241214T120000
DTSTAMP:20260423T102501
CREATED:20241029T161143Z
LAST-MODIFIED:20241029T161143Z
UID:20361-1734170400-1734177600@www.cancer-lifeline.org
SUMMARY:Coffee Morning
DESCRIPTION:Join us for coffee (or tea) and biscuits on a Saturday morning. A chance to chat to your friends\, try your luck on the raffle\, and buy some yummy home-made cake for tea\, all while raising money for a great cause.
URL:https://www.cancer-lifeline.org/event/coffee-morning-2/
LOCATION:Chudleigh Town Hall\, Market Way\, Chudleigh\, Devon\, TQ13 0HL\, United Kingdom
ATTACH;FMTTYPE=image/png:https://www.cancer-lifeline.org/wp-content/uploads/2024/10/Coffee-141224.png
ORGANIZER;CN="CLSW":MAILTO:info@cancer-lifeline.org
END:VEVENT
BEGIN:VEVENT
DTSTART;TZID=UTC:20241116T110000
DTEND;TZID=UTC:20241116T150000
DTSTAMP:20260423T102501
CREATED:20241029T153437Z
LAST-MODIFIED:20241031T081054Z
UID:20358-1731754800-1731769200@www.cancer-lifeline.org
SUMMARY:Festive Fundraiser
DESCRIPTION:Join us for our Festive Fundraiser on Saturday 16th November. We’ll have our usual selection of stalls\, featuring original and unusual gifts for friends and family. Plus face painting and an art corner for the kids. There will be a raffle (obviously) and a selection of refreshments. In fact\, if you get there early enough\, you can join us for our coffee morning first; that starts at 10am. \nIt’s just 50p to enter\, and the kids come in for free.
URL:https://www.cancer-lifeline.org/event/festive-fundraiser/
LOCATION:Chudleigh Town Hall\, Market Way\, Chudleigh\, Devon\, TQ13 0HL\, United Kingdom
ATTACH;FMTTYPE=image/jpeg:https://www.cancer-lifeline.org/wp-content/uploads/2024/10/FF-Poster-2.jpg
ORGANIZER;CN="CLSW":MAILTO:info@cancer-lifeline.org
END:VEVENT
BEGIN:VEVENT
DTSTART;TZID=UTC:20241116T100000
DTEND;TZID=UTC:20241116T120000
DTSTAMP:20260423T102501
CREATED:20241029T152108Z
LAST-MODIFIED:20241029T152108Z
UID:20336-1731751200-1731758400@www.cancer-lifeline.org
SUMMARY:Coffee Morning
DESCRIPTION:Join us for coffee (or tea) and biscuits on a Saturday morning. A chance to chat to your friends\, try your luck on the raffle\, and buy some yummy home-made cake for tea\, all while raising money for a great cause.
URL:https://www.cancer-lifeline.org/event/coffee-morning/
LOCATION:Chudleigh Town Hall\, Market Way\, Chudleigh\, Devon\, TQ13 0HL\, United Kingdom
ATTACH;FMTTYPE=image/png:https://www.cancer-lifeline.org/wp-content/uploads/2024/10/Coffee-161124.png
ORGANIZER;CN="CLSW":MAILTO:info@cancer-lifeline.org
END:VEVENT
END:VCALENDAR